BEGIN:VCALENDAR
VERSION:2.0
PRODID:icalendar-ruby
CALSCALE:GREGORIAN
BEGIN:VEVENT
DTSTAMP:20210119T022341Z
UID:cfcf3470-d042-4956-8145-d17f1a65c892
DTSTART;TZID=Pacific/Auckland:20210117T150000
DTEND;TZID=Pacific/Auckland:20210117T153000
DESCRIPTION:Property ID# 498736
SUMMARY:Openhome for 3/68 Orokonui Road
END:VEVENT
END:VCALENDAR
