BEGIN:VCALENDAR
VERSION:2.0
PRODID:icalendar-ruby
CALSCALE:GREGORIAN
BEGIN:VEVENT
DTSTAMP:20260423T142004Z
UID:a0e189f7-6aa3-42c3-a24f-7c49821edb83
DTSTART;TZID=Pacific/Auckland:20260426T113000
DTEND;TZID=Pacific/Auckland:20260426T120000
DESCRIPTION:Property ID# 607124
SUMMARY:Openhome for 22 Turner Street
END:VEVENT
END:VCALENDAR
